Package: flowPloidy Version: 1.26.0 Command: rm -rf flowPloidy.buildbin-libdir && mkdir flowPloidy.buildbin-libdir && F:\biocbuild\bbs-3.17-bioc\R\bin\R.exe CMD INSTALL --build --library=flowPloidy.buildbin-libdir flowPloidy_1.26.0.tar.gz StartedAt: 2023-10-16 08:48:55 -0400 (Mon, 16 Oct 2023) EndedAt: 2023-10-16 08:49:18 -0400 (Mon, 16 Oct 2023) EllapsedTime: 22.5 seconds RetCode: 0 Status: OK PackageFile: flowPloidy_1.26.0.zip PackageFileSize: 1.658 MiB