Package: flowPloidy Version: 1.26.0 Command: /Library/Frameworks/R.framework/Resources/bin/R CMD check --install=check:flowPloidy.install-out.txt --library=/Library/Frameworks/R.framework/Resources/library --no-vignettes --timings flowPloidy_1.26.0.tar.gz StartedAt: 2023-10-16 01:48:09 -0400 (Mon, 16 Oct 2023) EndedAt: 2023-10-16 01:51:08 -0400 (Mon, 16 Oct 2023) EllapsedTime: 179.6 seconds RetCode: 0 Status: OK CheckDir: flowPloidy.Rcheck Warnings: 0