Package: flowPloidy Version: 1.26.0 Command: /Library/Frameworks/R.framework/Resources/bin/R CMD build --keep-empty-dirs --no-resave-data flowPloidy StartedAt: 2023-10-15 18:22:42 -0400 (Sun, 15 Oct 2023) EndedAt: 2023-10-15 18:24:19 -0400 (Sun, 15 Oct 2023) EllapsedTime: 97.3 seconds RetCode: 0 Status: OK PackageFile: flowPloidy_1.26.0.tar.gz PackageFileSize: 2.332 MiB