Package: flowPeaks Version: 1.46.0 Command: F:\biocbuild\bbs-3.17-bioc\R\bin\R.exe CMD INSTALL flowPeaks StartedAt: 2023-10-15 15:46:54 -0400 (Sun, 15 Oct 2023) EndedAt: 2023-10-15 15:47:26 -0400 (Sun, 15 Oct 2023) EllapsedTime: 31.3 seconds RetCode: 0 Status: OK