Package: flowPeaks Version: 1.46.0 Command: rm -rf flowPeaks.buildbin-libdir && mkdir flowPeaks.buildbin-libdir && F:\biocbuild\bbs-3.17-bioc\R\bin\R.exe CMD INSTALL --build --library=flowPeaks.buildbin-libdir flowPeaks_1.46.0.tar.gz StartedAt: 2023-10-16 08:48:54 -0400 (Mon, 16 Oct 2023) EndedAt: 2023-10-16 08:49:22 -0400 (Mon, 16 Oct 2023) EllapsedTime: 28.6 seconds RetCode: 0 Status: OK PackageFile: flowPeaks_1.46.0.zip PackageFileSize: 2.087 MiB