Package: flowMerge Version: 2.48.0 Command: /home/biocbuild/bbs-3.17-bioc/R/bin/R CMD build --keep-empty-dirs --no-resave-data flowMerge StartedAt: 2023-10-15 16:49:46 -0400 (Sun, 15 Oct 2023) EndedAt: 2023-10-15 16:50:32 -0400 (Sun, 15 Oct 2023) EllapsedTime: 46.4 seconds RetCode: 0 Status: OK PackageFile: flowMerge_2.48.0.tar.gz PackageFileSize: 562.9 KiB