Package: flowMatch Version: 1.36.0 Command: F:\biocbuild\bbs-3.17-bioc\R\bin\R.exe CMD INSTALL flowMatch StartedAt: 2023-10-15 15:53:37 -0400 (Sun, 15 Oct 2023) EndedAt: 2023-10-15 15:54:25 -0400 (Sun, 15 Oct 2023) EllapsedTime: 47.5 seconds RetCode: 0 Status: OK