Package: flowMatch Version: 1.36.0 Command: F:\biocbuild\bbs-3.17-bioc\R\bin\R.exe CMD check --no-multiarch --install=check:flowMatch.install-out.txt --library=F:\biocbuild\bbs-3.17-bioc\R\library --no-vignettes --timings flowMatch_1.36.0.tar.gz StartedAt: 2023-10-16 02:15:25 -0400 (Mon, 16 Oct 2023) EndedAt: 2023-10-16 02:17:39 -0400 (Mon, 16 Oct 2023) EllapsedTime: 133.4 seconds RetCode: 0 Status: OK CheckDir: flowMatch.Rcheck Warnings: 0