Package: flowDensity Version: 1.34.0 Command: /Library/Frameworks/R.framework/Resources/bin/R CMD INSTALL flowDensity StartedAt: 2023-10-15 16:03:47 -0400 (Sun, 15 Oct 2023) EndedAt: 2023-10-15 16:04:53 -0400 (Sun, 15 Oct 2023) EllapsedTime: 65.8 seconds RetCode: 0 Status: OK