Package: flowDensity Version: 1.34.0 Command: /Library/Frameworks/R.framework/Resources/bin/R CMD check --install=check:flowDensity.install-out.txt --library=/Library/Frameworks/R.framework/Resources/library --no-vignettes --timings flowDensity_1.34.0.tar.gz StartedAt: 2023-10-16 01:46:30 -0400 (Mon, 16 Oct 2023) EndedAt: 2023-10-16 01:51:02 -0400 (Mon, 16 Oct 2023) EllapsedTime: 272.3 seconds RetCode: 0 Status: WARNINGS CheckDir: flowDensity.Rcheck Warnings: 5