Package: flowCyBar Version: 1.36.0 Command: rm -rf flowCyBar.buildbin-libdir && mkdir flowCyBar.buildbin-libdir && /Users/biocbuild/BBS/utils/build-universal.sh flowCyBar_1.36.0.tar.gz /Library/Frameworks/R.framework/Resources/bin/R flowCyBar.buildbin-libdir StartedAt: 2023-10-16 09:24:50 -0400 (Mon, 16 Oct 2023) EndedAt: 2023-10-16 09:25:10 -0400 (Mon, 16 Oct 2023) EllapsedTime: 19.9 seconds RetCode: 0 Status: OK PackageFile: flowCyBar_1.36.0.tgz PackageFileSize: 532.5 KiB