Package: flowCut Version: 1.10.0 Command: chmod a+r flowCut -R && F:\biocbuild\bbs-3.17-bioc\R\bin\R.exe CMD build --keep-empty-dirs --no-resave-data flowCut StartedAt: 2023-10-15 19:16:58 -0400 (Sun, 15 Oct 2023) EndedAt: 2023-10-15 19:17:47 -0400 (Sun, 15 Oct 2023) EllapsedTime: 49.4 seconds RetCode: 0 Status: OK PackageFile: flowCut_1.10.0.tar.gz PackageFileSize: 6.732 MiB