Package: flowCut Version: 1.10.0 Command: /home/biocbuild/bbs-3.17-bioc/R/bin/R CMD check --install=check:flowCut.install-out.txt --library=/home/biocbuild/bbs-3.17-bioc/R/site-library --timings flowCut_1.10.0.tar.gz StartedAt: 2023-10-15 21:22:30 -0400 (Sun, 15 Oct 2023) EndedAt: 2023-10-15 21:24:48 -0400 (Sun, 15 Oct 2023) EllapsedTime: 137.8 seconds RetCode: 0 Status: OK CheckDir: flowCut.Rcheck Warnings: 0