Package: flowCut Version: 1.10.0 Command: /Library/Frameworks/R.framework/Resources/bin/R CMD INSTALL flowCut StartedAt: 2023-10-15 16:04:53 -0400 (Sun, 15 Oct 2023) EndedAt: 2023-10-15 16:05:47 -0400 (Sun, 15 Oct 2023) EllapsedTime: 53.9 seconds RetCode: 0 Status: OK