Package: flowCut Version: 1.10.0 Command: /Library/Frameworks/R.framework/Resources/bin/R CMD check --install=check:flowCut.install-out.txt --library=/Library/Frameworks/R.framework/Resources/library --no-vignettes --timings flowCut_1.10.0.tar.gz StartedAt: 2023-10-16 01:46:14 -0400 (Mon, 16 Oct 2023) EndedAt: 2023-10-16 01:51:34 -0400 (Mon, 16 Oct 2023) EllapsedTime: 320.1 seconds RetCode: 0 Status: OK CheckDir: flowCut.Rcheck Warnings: 0