Package: flowCore Version: 2.12.2 Command: /home/biocbuild/bbs-3.17-bioc/R/bin/R CMD INSTALL flowCore StartedAt: 2023-10-15 15:13:26 -0400 (Sun, 15 Oct 2023) EndedAt: 2023-10-15 15:14:05 -0400 (Sun, 15 Oct 2023) EllapsedTime: 38.9 seconds RetCode: 0 Status: OK