Package: flowClust Version: 3.38.0 Command: chmod a+r flowClust -R && F:\biocbuild\bbs-3.17-bioc\R\bin\R.exe CMD build --keep-empty-dirs --no-resave-data flowClust StartedAt: 2023-10-15 19:16:30 -0400 (Sun, 15 Oct 2023) EndedAt: 2023-10-15 19:17:04 -0400 (Sun, 15 Oct 2023) EllapsedTime: 33.1 seconds RetCode: 0 Status: OK PackageFile: flowClust_3.38.0.tar.gz PackageFileSize: 1.592 MiB