Package: flowClust Version: 3.38.0 Command: /home/biocbuild/bbs-3.17-bioc/R/bin/R CMD INSTALL flowClust StartedAt: 2023-10-15 15:14:09 -0400 (Sun, 15 Oct 2023) EndedAt: 2023-10-15 15:15:38 -0400 (Sun, 15 Oct 2023) EllapsedTime: 88.3 seconds RetCode: 0 Status: OK