Package: flowClust Version: 3.38.0 Command: /home/biocbuild/bbs-3.17-bioc/R/bin/R CMD check --install=check:flowClust.install-out.txt --library=/home/biocbuild/bbs-3.17-bioc/R/site-library --timings flowClust_3.38.0.tar.gz StartedAt: 2023-10-15 21:22:27 -0400 (Sun, 15 Oct 2023) EndedAt: 2023-10-15 21:25:32 -0400 (Sun, 15 Oct 2023) EllapsedTime: 184.3 seconds RetCode: 0 Status: WARNINGS CheckDir: flowClust.Rcheck Warnings: 1