Package: flowClust Version: 3.38.0 Command: /home/biocbuild/bbs-3.17-bioc/R/bin/R CMD build --keep-empty-dirs --no-resave-data flowClust StartedAt: 2023-10-15 16:48:57 -0400 (Sun, 15 Oct 2023) EndedAt: 2023-10-15 16:50:47 -0400 (Sun, 15 Oct 2023) EllapsedTime: 109.6 seconds RetCode: 0 Status: OK PackageFile: flowClust_3.38.0.tar.gz PackageFileSize: 1.689 MiB