Package: flowClust Version: 3.38.0 Command: /Library/Frameworks/R.framework/Resources/bin/R CMD check --install=check:flowClust.install-out.txt --library=/Library/Frameworks/R.framework/Resources/library --no-vignettes --timings flowClust_3.38.0.tar.gz StartedAt: 2023-10-16 01:45:50 -0400 (Mon, 16 Oct 2023) EndedAt: 2023-10-16 01:56:39 -0400 (Mon, 16 Oct 2023) EllapsedTime: 648.7 seconds RetCode: 0 Status: WARNINGS CheckDir: flowClust.Rcheck Warnings: 2