Package: flowCHIC Version: 1.34.0 Command: F:\biocbuild\bbs-3.17-bioc\R\bin\R.exe CMD INSTALL flowCHIC StartedAt: 2023-10-15 16:20:44 -0400 (Sun, 15 Oct 2023) EndedAt: 2023-10-15 16:21:01 -0400 (Sun, 15 Oct 2023) EllapsedTime: 17.6 seconds RetCode: 0 Status: OK