Package: flowCHIC Version: 1.34.0 Command: chmod a+r flowCHIC -R && F:\biocbuild\bbs-3.17-bioc\R\bin\R.exe CMD build --keep-empty-dirs --no-resave-data flowCHIC StartedAt: 2023-10-15 19:16:16 -0400 (Sun, 15 Oct 2023) EndedAt: 2023-10-15 19:16:55 -0400 (Sun, 15 Oct 2023) EllapsedTime: 38.8 seconds RetCode: 0 Status: OK PackageFile: flowCHIC_1.34.0.tar.gz PackageFileSize: 3.069 MiB