Package: flowCHIC Version: 1.34.0 Command: /home/biocbuild/bbs-3.17-bioc/R/bin/R CMD INSTALL flowCHIC StartedAt: 2023-10-15 15:26:27 -0400 (Sun, 15 Oct 2023) EndedAt: 2023-10-15 15:26:40 -0400 (Sun, 15 Oct 2023) EllapsedTime: 12.6 seconds RetCode: 0 Status: OK