Package: flowCHIC Version: 1.34.0 Command: /home/biocbuild/bbs-3.17-bioc/R/bin/R CMD build --keep-empty-dirs --no-resave-data flowCHIC StartedAt: 2023-10-15 16:48:52 -0400 (Sun, 15 Oct 2023) EndedAt: 2023-10-15 16:49:24 -0400 (Sun, 15 Oct 2023) EllapsedTime: 31.9 seconds RetCode: 0 Status: OK PackageFile: flowCHIC_1.34.0.tar.gz PackageFileSize: 3.067 MiB