Package: flowBin Version: 1.36.0 Command: /home/biocbuild/bbs-3.17-bioc/R/bin/R CMD INSTALL flowBin StartedAt: 2023-10-15 15:15:16 -0400 (Sun, 15 Oct 2023) EndedAt: 2023-10-15 15:15:26 -0400 (Sun, 15 Oct 2023) EllapsedTime: 9.8 seconds RetCode: 0 Status: OK