Package: flowBin Version: 1.36.0 Command: /home/biocbuild/bbs-3.17-bioc/R/bin/R CMD build --keep-empty-dirs --no-resave-data flowBin StartedAt: 2023-10-15 16:48:49 -0400 (Sun, 15 Oct 2023) EndedAt: 2023-10-15 16:49:13 -0400 (Sun, 15 Oct 2023) EllapsedTime: 23.9 seconds RetCode: 0 Status: OK PackageFile: flowBin_1.36.0.tar.gz PackageFileSize: 481.4 KiB