Package: flowAI Version: 1.30.0 Command: F:\biocbuild\bbs-3.17-bioc\R\bin\R.exe CMD INSTALL flowAI StartedAt: 2023-10-15 16:20:27 -0400 (Sun, 15 Oct 2023) EndedAt: 2023-10-15 16:20:43 -0400 (Sun, 15 Oct 2023) EllapsedTime: 15.5 seconds RetCode: 0 Status: OK