Package: flowAI Version: 1.30.0 Command: rm -rf flowAI.buildbin-libdir && mkdir flowAI.buildbin-libdir && F:\biocbuild\bbs-3.17-bioc\R\bin\R.exe CMD INSTALL --build --library=flowAI.buildbin-libdir flowAI_1.30.0.tar.gz StartedAt: 2023-10-16 08:48:16 -0400 (Mon, 16 Oct 2023) EndedAt: 2023-10-16 08:48:32 -0400 (Mon, 16 Oct 2023) EllapsedTime: 15.4 seconds RetCode: 0 Status: OK PackageFile: flowAI_1.30.0.zip PackageFileSize: 4.867 MiB