Package: flowAI Version: 1.30.0 Command: /Library/Frameworks/R.framework/Resources/bin/R CMD INSTALL flowAI StartedAt: 2023-10-15 15:45:22 -0400 (Sun, 15 Oct 2023) EndedAt: 2023-10-15 15:46:04 -0400 (Sun, 15 Oct 2023) EllapsedTime: 41.6 seconds RetCode: 0 Status: OK