Package: flagme Version: 1.56.0 Command: F:\biocbuild\bbs-3.17-bioc\R\bin\R.exe CMD INSTALL flagme StartedAt: 2023-10-15 16:47:00 -0400 (Sun, 15 Oct 2023) EndedAt: 2023-10-15 16:47:54 -0400 (Sun, 15 Oct 2023) EllapsedTime: 53.9 seconds RetCode: 0 Status: OK