Package: flagme Version: 1.56.0 Command: F:\biocbuild\bbs-3.17-bioc\R\bin\R.exe CMD check --no-multiarch --install=check:flagme.install-out.txt --library=F:\biocbuild\bbs-3.17-bioc\R\library --no-vignettes --timings flagme_1.56.0.tar.gz StartedAt: 2023-10-16 02:12:10 -0400 (Mon, 16 Oct 2023) EndedAt: 2023-10-16 02:28:03 -0400 (Mon, 16 Oct 2023) EllapsedTime: 953.5 seconds RetCode: 0 Status: WARNINGS CheckDir: flagme.Rcheck Warnings: 2