Package: flagme Version: 1.56.0 Command: chmod a+r flagme -R && F:\biocbuild\bbs-3.17-bioc\R\bin\R.exe CMD build --keep-empty-dirs --no-resave-data flagme StartedAt: 2023-10-15 19:14:40 -0400 (Sun, 15 Oct 2023) EndedAt: 2023-10-15 19:19:35 -0400 (Sun, 15 Oct 2023) EllapsedTime: 294.7 seconds RetCode: 0 Status: OK PackageFile: flagme_1.56.0.tar.gz PackageFileSize: 426.2 KiB