Package: flagme Version: 1.56.0 Command: rm -rf flagme.buildbin-libdir && mkdir flagme.buildbin-libdir && F:\biocbuild\bbs-3.17-bioc\R\bin\R.exe CMD INSTALL --build --library=flagme.buildbin-libdir flagme_1.56.0.tar.gz StartedAt: 2023-10-16 08:48:13 -0400 (Mon, 16 Oct 2023) EndedAt: 2023-10-16 08:49:04 -0400 (Mon, 16 Oct 2023) EllapsedTime: 50.4 seconds RetCode: 0 Status: OK PackageFile: flagme_1.56.0.zip PackageFileSize: 916.3 KiB