Package: flagme Version: 1.56.0 Command: /home/biocbuild/bbs-3.17-bioc/R/bin/R CMD INSTALL flagme StartedAt: 2023-10-15 15:40:25 -0400 (Sun, 15 Oct 2023) EndedAt: 2023-10-15 15:41:05 -0400 (Sun, 15 Oct 2023) EllapsedTime: 40.0 seconds RetCode: 0 Status: OK