Package: flagme Version: 1.56.0 Command: /home/biocbuild/bbs-3.17-bioc/R/bin/R CMD build --keep-empty-dirs --no-resave-data flagme StartedAt: 2023-10-15 16:48:27 -0400 (Sun, 15 Oct 2023) EndedAt: 2023-10-15 16:51:36 -0400 (Sun, 15 Oct 2023) EllapsedTime: 189.1 seconds RetCode: 0 Status: OK PackageFile: flagme_1.56.0.tar.gz PackageFileSize: 419.5 KiB