Package: flagme Version: 1.56.0 Command: /Library/Frameworks/R.framework/Resources/bin/R CMD INSTALL flagme StartedAt: 2023-10-15 16:14:54 -0400 (Sun, 15 Oct 2023) EndedAt: 2023-10-15 16:16:54 -0400 (Sun, 15 Oct 2023) EllapsedTime: 119.8 seconds RetCode: 0 Status: OK