Package: flagme Version: 1.56.0 Command: rm -rf flagme.buildbin-libdir && mkdir flagme.buildbin-libdir && /Users/biocbuild/BBS/utils/build-universal.sh flagme_1.56.0.tar.gz /Library/Frameworks/R.framework/Resources/bin/R flagme.buildbin-libdir StartedAt: 2023-10-16 09:24:18 -0400 (Mon, 16 Oct 2023) EndedAt: 2023-10-16 09:26:42 -0400 (Mon, 16 Oct 2023) EllapsedTime: 144.4 seconds RetCode: 0 Status: OK PackageFile: flagme_1.56.0.tgz PackageFileSize: 1.174 MiB