Package: fgsea Version: 1.26.0 Command: /Library/Frameworks/R.framework/Resources/bin/R CMD INSTALL fgsea StartedAt: 2023-10-15 15:58:33 -0400 (Sun, 15 Oct 2023) EndedAt: 2023-10-15 16:00:55 -0400 (Sun, 15 Oct 2023) EllapsedTime: 142.1 seconds RetCode: 0 Status: OK