Package: fgsea Version: 1.26.0 Command: /Library/Frameworks/R.framework/Resources/bin/R CMD check --install=check:fgsea.install-out.txt --library=/Library/Frameworks/R.framework/Resources/library --no-vignettes --timings fgsea_1.26.0.tar.gz StartedAt: 2023-10-16 01:41:10 -0400 (Mon, 16 Oct 2023) EndedAt: 2023-10-16 01:49:26 -0400 (Mon, 16 Oct 2023) EllapsedTime: 495.6 seconds RetCode: 0 Status: OK CheckDir: fgsea.Rcheck Warnings: 0