Package: fgsea Version: 1.26.0 Command: /Library/Frameworks/R.framework/Resources/bin/R CMD build --keep-empty-dirs --no-resave-data fgsea StartedAt: 2023-10-15 18:19:43 -0400 (Sun, 15 Oct 2023) EndedAt: 2023-10-15 18:33:02 -0400 (Sun, 15 Oct 2023) EllapsedTime: 799.3 seconds RetCode: 0 Status: OK PackageFile: fgsea_1.26.0.tar.gz PackageFileSize: 4.797 MiB