Package: fgsea Version: 1.26.0 Command: rm -rf fgsea.buildbin-libdir && mkdir fgsea.buildbin-libdir && /Users/biocbuild/BBS/utils/build-universal.sh fgsea_1.26.0.tar.gz /Library/Frameworks/R.framework/Resources/bin/R fgsea.buildbin-libdir StartedAt: 2023-10-16 09:24:09 -0400 (Mon, 16 Oct 2023) EndedAt: 2023-10-16 09:26:45 -0400 (Mon, 16 Oct 2023) EllapsedTime: 156.0 seconds RetCode: 0 Status: OK PackageFile: fgsea_1.26.0.tgz PackageFileSize: 4.83 MiB