Package: fgga Version: 1.8.0 Command: rm -rf fgga.buildbin-libdir && mkdir fgga.buildbin-libdir && F:\biocbuild\bbs-3.17-bioc\R\bin\R.exe CMD INSTALL --build --library=fgga.buildbin-libdir fgga_1.8.0.tar.gz StartedAt: 2023-09-22 08:57:40 -0400 (Fri, 22 Sep 2023) EndedAt: 2023-09-22 08:57:57 -0400 (Fri, 22 Sep 2023) EllapsedTime: 16.8 seconds RetCode: 0 Status: OK PackageFile: fgga_1.8.0.zip PackageFileSize: 1.323 MiB