Package: fgga Version: 1.8.0 Command: /home/biocbuild/bbs-3.17-bioc/R/bin/R CMD check --install=check:fgga.install-out.txt --library=/home/biocbuild/bbs-3.17-bioc/R/site-library --timings fgga_1.8.0.tar.gz StartedAt: 2023-09-21 21:17:24 -0400 (Thu, 21 Sep 2023) EndedAt: 2023-09-21 21:20:17 -0400 (Thu, 21 Sep 2023) EllapsedTime: 172.7 seconds RetCode: 0 Status: OK CheckDir: fgga.Rcheck Warnings: 0