Package: fgga Version: 1.8.0 Command: /Library/Frameworks/R.framework/Resources/bin/R CMD build --keep-empty-dirs --no-resave-data fgga StartedAt: 2023-10-15 18:19:25 -0400 (Sun, 15 Oct 2023) EndedAt: 2023-10-15 18:20:37 -0400 (Sun, 15 Oct 2023) EllapsedTime: 71.9 seconds RetCode: 1 Status: ERROR PackageFile: None PackageFileSize: NA