Package: fgga Version: 1.8.0 Command: rm -rf fgga.buildbin-libdir && mkdir fgga.buildbin-libdir && /Users/biocbuild/BBS/utils/build-universal.sh fgga_1.8.0.tar.gz /Library/Frameworks/R.framework/Resources/bin/R fgga.buildbin-libdir StartedAt: 2023-09-22 10:12:58 -0400 (Fri, 22 Sep 2023) EndedAt: 2023-09-22 10:13:41 -0400 (Fri, 22 Sep 2023) EllapsedTime: 43.2 seconds RetCode: 0 Status: OK PackageFile: fgga_1.8.0.tgz PackageFileSize: 1.365 MiB