Package: ffpe Version: 1.44.0 Command: F:\biocbuild\bbs-3.17-bioc\R\bin\R.exe CMD INSTALL ffpe StartedAt: 2023-10-15 16:58:55 -0400 (Sun, 15 Oct 2023) EndedAt: 2023-10-15 16:59:46 -0400 (Sun, 15 Oct 2023) EllapsedTime: 50.7 seconds RetCode: 0 Status: OK