Package: ffpe Version: 1.44.0 Command: /home/biocbuild/bbs-3.17-bioc/R/bin/R CMD build --keep-empty-dirs --no-resave-data ffpe StartedAt: 2023-10-15 16:47:53 -0400 (Sun, 15 Oct 2023) EndedAt: 2023-10-15 16:49:01 -0400 (Sun, 15 Oct 2023) EllapsedTime: 68.3 seconds RetCode: 0 Status: OK PackageFile: ffpe_1.44.0.tar.gz PackageFileSize: 161.9 KiB