Package: ffpe Version: 1.44.0 Command: /Library/Frameworks/R.framework/Resources/bin/R CMD INSTALL ffpe StartedAt: 2023-10-15 16:28:23 -0400 (Sun, 15 Oct 2023) EndedAt: 2023-10-15 16:30:40 -0400 (Sun, 15 Oct 2023) EllapsedTime: 136.9 seconds RetCode: 0 Status: OK