Package: fedup Version: 1.8.0 Command: /Library/Frameworks/R.framework/Resources/bin/R CMD build --keep-empty-dirs --no-resave-data fedup StartedAt: 2023-10-15 18:18:55 -0400 (Sun, 15 Oct 2023) EndedAt: 2023-10-15 18:22:21 -0400 (Sun, 15 Oct 2023) EllapsedTime: 206.6 seconds RetCode: 0 Status: OK PackageFile: fedup_1.8.0.tar.gz PackageFileSize: 4.573 MiB